BEGIN:VCALENDAR
VERSION:2.0
PRODID:-//japanistry.com - ECPv6.15.20//NONSGML v1.0//EN
CALSCALE:GREGORIAN
METHOD:PUBLISH
X-WR-CALNAME:japanistry.com
X-ORIGINAL-URL:https://www.japanistry.com
X-WR-CALDESC:Events for japanistry.com
REFRESH-INTERVAL;VALUE=DURATION:PT1H
X-Robots-Tag:noindex
X-PUBLISHED-TTL:PT1H
BEGIN:VTIMEZONE
TZID:Asia/Tokyo
BEGIN:STANDARD
TZOFFSETFROM:+0900
TZOFFSETTO:+0900
TZNAME:JST
DTSTART:20250101T000000
END:STANDARD
END:VTIMEZONE
BEGIN:VEVENT
DTSTART;VALUE=DATE:20270116
DTEND;VALUE=DATE:20270118
DTSTAMP:20260421T174942
CREATED:20260407T073410Z
LAST-MODIFIED:20260413T114033Z
UID:10000474-1800057600-1800230399@www.japanistry.com
SUMMARY:Daikoku Matsuri 2027
DESCRIPTION:The Daikoku Matsuri is a significant winter festival held annually in mid-January at Kanda Myojin Shrine in Tokyo. This event celebrates Daikokuten\, the deity of wealth\, agriculture\, and good fortune\, who is one of the Seven Gods of Fortune. As the first major festival following the New Year (hatsumode)\, it attracts thousands of visitors seeking prosperity and success for their personal and professional endeavors. The shrine’s long-standing association with the local merchant class and the nearby business districts makes it a focal point for corporate blessings at the start of the calendar year. \nThe festival’s primary ritual involves a Shinto performer dressed as Daikokuten performing a traditional dance and shaking a sacred golden mallet (uchide no kozuchi) over the heads of worshippers. This act is believed to grant luck and wealth to those in attendance. A specific highlight occurs on the Sunday coinciding with Coming of Age Day\, where the blessing is bestowed upon young adults who have recently reached maturity. Additional festivities include the rhythmic pounding of mochi (rice cakes) and various purification rites performed by the shrine’s priests. \nFor visitors\, the Sunday afternoon session is the most popular\, and the main courtyard can become extremely crowded\, particularly during the 3:00 PM mallet blessing. It is recommended to arrive at the precinct at least 45 minutes early to secure a clear viewing position near the main hall. The shrine is conveniently located within a 10-minute walk of Ochanomizu and Akihabara stations. Visitors should also consider exploring the numerous food stalls selling traditional winter snacks and the permanent cultural exhibits within the shrine’s modern facilities.
URL:https://www.japanistry.com/event/daikoku-matsuri/
LOCATION:Kanda Myojin\, 2-16-2 Sotokanda\, Chiyoda\, Tokyo\, 101-0021\, Japan
CATEGORIES:Japanese Festivals
ATTACH;FMTTYPE=image/jpeg:https://www.japanistry.com/wp-content/uploads/2017/09/Kanda-Myojin-Daikoku-Matsuri-v01.jpg
GEO:35.7020383;139.7678913
X-APPLE-STRUCTURED-LOCATION;VALUE=URI;X-ADDRESS=Kanda Myojin 2-16-2 Sotokanda Chiyoda Tokyo 101-0021 Japan;X-APPLE-RADIUS=500;X-TITLE=2-16-2 Sotokanda:geo:139.7678913,35.7020383
END:VEVENT
BEGIN:VEVENT
DTSTART;VALUE=DATE:20260508
DTEND;VALUE=DATE:20260816
DTSTAMP:20260421T174942
CREATED:20260410T140540Z
LAST-MODIFIED:20260414T125300Z
UID:10000495-1778198400-1786838399@www.japanistry.com
SUMMARY:Kanda Matsuri 2026
DESCRIPTION:The Kanda Matsuri (神田祭) is a cornerstone of Tokyo’s cultural heritage and is celebrated as one of the city’s three great Shinto festivals. Held at the historic Kanda Myojin Shrine in mid-May\, the event honors three primary deities: Daikokuten\, the god of good harvest; Ebisu\, the god of fishermen and luck; and Taira no Masakado\, a 10th-century rebel who was deified as a powerful protector of the city. Historically\, the festival’s scale was so massive that the Edo-period Shogun restricted full-scale festivities to odd-numbered years to manage the financial burden. This tradition continues today\, with a spectacular Honmatsuri (Main Festival) held in odd years\, and a smaller\, more ritual-focused Kagematsuri (Shadow Festival) held in even years. \nDuring a Honmatsuri year\, the week-long celebration peaks on the weekend. On Saturday\, the Shinkosai procession takes place—a grand parade of nearly 1\,000 attendants\, including priests on horseback and ornate dashi (floats) topped with mythical figures. This 30-kilometer route winds through the districts of Kanda\, Nihonbashi\, and Marunouchi\, even passing through the Imperial Palace grounds. This was the only festival historically allowed to enter the Shogun’s castle\, highlighting the shrine’s high status in the eyes of Japan’s feudal rulers. \nThe crowded grounds of the shrine during the festival\nOn Sunday\, the energy reaches its climax with the Mikoshi Miyairi. Over 200 neighborhood mikoshi (portable shrines)\, representing local districts and business associations\, converge on Kanda Myojin Shrine to be blessed. The streets of Akihabara and Kanda become a sea of vibrant hanten coats and rhythmic chanting as the massive shrines are shouldered by spirited crowds. The sight of these ancient rituals taking place against the neon-lit backdrop of Akihabara’s electronics district is one of Tokyo’s most striking visual contrasts. \nFor visitors\, the Kanda Matsuri offers a visceral immersion into the “Edo-ko” spirit. While the Honmatsuri parade is a masterpiece of historical pageantry\, the Kagematsuri years provide a more tranquil\, sacred atmosphere focused on the shrine’s internal rituals. The shrine is most easily accessed via Ochanomizu Station (JR Chuo-Sobu Line) or Akihabara Station. Arriving at the shrine grounds by mid-morning on Sunday is the best strategy to witness the high-speed “miyairi” (shrine entry)\, where each team tries to carry their mikoshi into the sanctuary with maximum energy and noise.
URL:https://www.japanistry.com/event/kanda-matsuri/
LOCATION:Kanda Myojin\, 2-16-2 Sotokanda\, Chiyoda\, Tokyo\, 101-0021\, Japan
CATEGORIES:Japanese Festivals
ATTACH;FMTTYPE=image/jpeg:https://www.japanistry.com/wp-content/uploads/2017/09/Kanda-Matsuri-Mikoshi-v02.jpg
GEO:35.7020383;139.7678913
X-APPLE-STRUCTURED-LOCATION;VALUE=URI;X-ADDRESS=Kanda Myojin 2-16-2 Sotokanda Chiyoda Tokyo 101-0021 Japan;X-APPLE-RADIUS=500;X-TITLE=2-16-2 Sotokanda:geo:139.7678913,35.7020383
END:VEVENT
END:VCALENDAR